BEGIN:VCALENDAR
VERSION:2.0
PRODID:-//Impact Coaching Solutions - ECPv5.14.0.4//NONSGML v1.0//EN
CALSCALE:GREGORIAN
METHOD:PUBLISH
X-WR-CALNAME:Impact Coaching Solutions
X-ORIGINAL-URL:https://www.impactcoachingsolutions.com/en
X-WR-CALDESC:Events for Impact Coaching Solutions
BEGIN:VTIMEZONE
TZID:UTC
BEGIN:STANDARD
TZOFFSETFROM:+0000
TZOFFSETTO:+0000
TZNAME:UTC
DTSTART:20260101T000000
END:STANDARD
END:VTIMEZONE
BEGIN:VEVENT
DTSTART;VALUE=DATE:20260406
DTEND;VALUE=DATE:20260407
DTSTAMP:20260422T102117
CREATED:20260217T011427Z
LAST-MODIFIED:20260305T025314Z
UID:4476-1775433600-1775519999@www.impactcoachingsolutions.com
SUMMARY:Abril 6 - Executive Coaching Mastery (Español)
DESCRIPTION:(Horario Lunes 5:30-7 pm) En línea – Programa de 4 meses
URL:https://www.impactcoachingsolutions.com/en/event/abril-6-executive-coaching-mastery-espanol/
CATEGORIES:locations
END:VEVENT
BEGIN:VEVENT
DTSTART;VALUE=DATE:20260414
DTEND;VALUE=DATE:20260415
DTSTAMP:20260422T102117
CREATED:20260217T011156Z
LAST-MODIFIED:20260312T114633Z
UID:4472-1776124800-1776211199@www.impactcoachingsolutions.com
SUMMARY:Abril 14 - Certificación Internacional de Coachiing en Crianza Consciente
DESCRIPTION:(Horario Matutino – Español) En línea – (Programa de 15 semanas)
URL:https://www.impactcoachingsolutions.com/en/event/abril-14-certificacion-internacional-de-coachiing-en-crianza-consciente/
CATEGORIES:locations
END:VEVENT
BEGIN:VEVENT
DTSTART;VALUE=DATE:20260422
DTEND;VALUE=DATE:20260423
DTSTAMP:20260422T102117
CREATED:20260217T010944Z
LAST-MODIFIED:20260416T150823Z
UID:4468-1776816000-1776902399@www.impactcoachingsolutions.com
SUMMARY:Abril
DESCRIPTION:
URL:https://www.impactcoachingsolutions.com/en/event/abril/
CATEGORIES:locations
END:VEVENT
BEGIN:VEVENT
DTSTART;VALUE=DATE:20260422
DTEND;VALUE=DATE:20260423
DTSTAMP:20260422T102117
CREATED:20260217T011316Z
LAST-MODIFIED:20260416T150821Z
UID:4474-1776816000-1776902399@www.impactcoachingsolutions.com
SUMMARY:Abril 21 - Certificación Internacional de Coaching.
DESCRIPTION:(Horario Matutino – Español) En línea – (Programa de 15 semanas)
URL:https://www.impactcoachingsolutions.com/en/event/abril-14-certificacion-internacional-de-coaching/
CATEGORIES:locations
END:VEVENT
END:VCALENDAR